BEGIN:VCALENDAR
VERSION:2.0
PRODID:-//wp-events-plugin.com//5.99912//EN
TZID:Europe/Berlin
X-WR-TIMEZONE:Europe/Berlin
BEGIN:VEVENT
UID:870@theater-monteure.de
DTSTART;TZID=Europe/Berlin:20261018T160000
DTEND;TZID=Europe/Berlin:20261018T170000
DTSTAMP:20260114T104036Z
URL:https://www.theater-monteure.de/vorstellungen/meins-wird-deins-10/
SUMMARY:meins wird deins | theater monteure
DESCRIPTION:﻿\n\nTheater. Musik. Teilen.\nfür Kinder von 3-8 Jahren und 
 Familien\nfür alle Kita-Kinder ab 3 Jahren\nfür Klassen 1 + 2\n\nDauer: 
 50 Minuten\n[av_button label='STÜCKINFO' link='page\,5553' link_target=''
  color='custom' custom_bg='#b4c5df' custom_font='#005096' size='medium' po
 sition='left' icon_select='no' icon='ue84d' font='entypo-fontello']\n\n\n[
 av_hr class='invisible' height='30' shadow='no-shadow' position='center']
CATEGORIES:meins wird deins,KINDER und FAMILIEN
LOCATION:theater wrede +\, Klävemannstraße 16\, Oldenburg\, 26122\, Deuts
 chland
GEO:53.142504;8.22306
X-APPLE-STRUCTURED-LOCATION;VALUE=URI;X-ADDRESS=Klävemannstraße 16\, Olde
 nburg\, 26122\, Deutschland;X-APPLE-RADIUS=100;X-TITLE=theater wrede +:geo
 :53.142504,8.22306
END:VEVENT
BEGIN:VTIMEZONE
TZID:Europe/Berlin
X-LIC-LOCATION:Europe/Berlin
BEGIN:DAYLIGHT
DTSTART:20260329T030000
TZOFFSETFROM:+0100
TZOFFSETTO:+0200
TZNAME:CEST
END:DAYLIGHT
END:VTIMEZONE
END:VCALENDAR